BEGIN:VCALENDAR
VERSION:2.0
PRODID:-//WISTA Hellas - ECPv5.5.0//NONSGML v1.0//EN
CALSCALE:GREGORIAN
METHOD:PUBLISH
X-WR-CALNAME:WISTA Hellas
X-ORIGINAL-URL:https://wistahellas.gr
X-WR-CALDESC:Events for WISTA Hellas
BEGIN:VTIMEZONE
TZID:Europe/Athens
BEGIN:DAYLIGHT
TZOFFSETFROM:+0200
TZOFFSETTO:+0300
TZNAME:EEST
DTSTART:20240331T010000
END:DAYLIGHT
BEGIN:STANDARD
TZOFFSETFROM:+0300
TZOFFSETTO:+0200
TZNAME:EET
DTSTART:20241027T010000
END:STANDARD
END:VTIMEZONE
BEGIN:VEVENT
DTSTART;TZID=Europe/Athens:20240602T000000
DTEND;TZID=Europe/Athens:20240605T000000
DTSTAMP:20260419T214218
CREATED:20240419T093736Z
LAST-MODIFIED:20240419T143457Z
UID:1962-1717286400-1717545600@wistahellas.gr
SUMMARY:WISTA Hellas Posidonia 2024 Events_SAVE THE DATES
DESCRIPTION:Save the Dates \nWISTA Hellas is thrilled to announce our participation in Posidonia 2024! \nJoin us for a series of exciting events: \n  \nJune 2\, 2024\, Piraeus: \nPosidonia Running Event \nWISTA Hellas Team \n  \nJune 4\, 2024\, Athens Marriott Hotel (19:30): \nCocktail Reception \n  \nJune 5\, 2024\, Metropolitan Expo (14:45-16:30): \nSeminar \n  \nMark your calendars and stay tuned for more details!
URL:https://wistahellas.gr/event/wista-hellas-posidonia-2024-events_save-the-dates/
CATEGORIES:Events
ATTACH;FMTTYPE=image/jpeg:https://wistahellas.gr/wp-content/uploads/2024/04/WISTA-13.jpg
ORGANIZER;CN="WISTA%20Hellas":MAILTO:wistahellas@wista.gr
END:VEVENT
END:VCALENDAR